BEGIN:VCALENDAR
VERSION:2.0
PRODID:-//ChamberMaster//Event Calendar 2.0//EN
METHOD:PUBLISH
X-PUBLISHED-TTL:P3D
REFRESH-INTERVAL:P3D
CALSCALE:GREGORIAN
BEGIN:VEVENT
DTSTART:20200806T140000Z
DTEND:20200806T150000Z
X-MICROSOFT-CDO-ALLDAYEVENT:FALSE
SUMMARY:Women's Biz Net Virtual Program: A Matter of Media
DESCRIPTION:Join the Women's Biz Net for a virtual presentation from Annette Bochenek of the Barrington Area Library on "A Matter of Media: How We Respond to Different Media/Materials and What That Says About Us."\n\n\n\nVirtual program includes: Around the "screen" intros\, Networking & Presentation.\n\n\n\nRegister to receive your Zoom Link!
X-ALT-DESC;FMTTYPE=text/html:<span style="font-size:14px\;">Join the Women&#39\;s Biz Net for a virtual presentation from Annette Bochenek of the Barrington Area Library on &quot\;A Matter of Media: How We Respond to Different Media/Materials and What That Says About Us.&quot\;<br />\n<br />\nVirtual program includes: Around the &quot\;screen&quot\; intros\, Networking &amp\; Presentation.<br />\n<br />\nRegister to receive your Zoom Link!</span><br />\n&nbsp\;
LOCATION:Zoom meeting - Register to receive the link
UID:e.21.26480
SEQUENCE:3
DTSTAMP:20260425T033408Z
URL:https://business.barringtonchamber.com/events/details/women-s-biz-net-virtual-program-a-matter-of-media-26480
END:VEVENT

END:VCALENDAR
