BEGIN:VCALENDAR
VERSION:2.0
PRODID:-//ChamberMaster//Event Calendar 2.0//EN
METHOD:PUBLISH
X-PUBLISHED-TTL:P3D
REFRESH-INTERVAL:P3D
CALSCALE:GREGORIAN
BEGIN:VEVENT
DTSTART:20200922T210000Z
DTEND:20200922T213000Z
X-MICROSOFT-CDO-ALLDAYEVENT:FALSE
SUMMARY:Virtual Ribbon Cutting Photo Ceremony at School of Rock
DESCRIPTION:Join us for a Virtual Ribbon Cutting Photo Ceremony at School of Rock in Barrington!
X-ALT-DESC;FMTTYPE=text/html:Join us for a Virtual Ribbon Cutting Photo Ceremony at&nbsp\;School of Rock in Barrington!
LOCATION:School of Rock 100 W. Main St. Barrington
UID:e.21.27308
SEQUENCE:3
DTSTAMP:20260425T021927Z
URL:https://business.barringtonchamber.com/events/details/virtual-ribbon-cutting-photo-ceremony-at-school-of-rock-27308
END:VEVENT

END:VCALENDAR
