BEGIN:VCALENDAR
VERSION:2.0
PRODID:-//ChamberMaster//Event Calendar 2.0//EN
METHOD:PUBLISH
X-PUBLISHED-TTL:P3D
REFRESH-INTERVAL:P3D
CALSCALE:GREGORIAN
BEGIN:VEVENT
DTSTART:20200806T210000Z
DTEND:20200806T213000Z
X-MICROSOFT-CDO-ALLDAYEVENT:FALSE
SUMMARY:Virtual Ribbon Cutting Photo Ceremony at Edyta Fine Art and Design
DESCRIPTION:Join us for a Virtual Ribbon Cutting Photo Ceremony at Edyta Fine Art and Design
X-ALT-DESC;FMTTYPE=text/html:&nbsp\;Join us for a Virtual Ribbon Cutting Photo Ceremony at Edyta Fine Art and Design
LOCATION:Edyta Fine Art 107 E. Main St. Barrington
UID:e.21.27267
SEQUENCE:3
DTSTAMP:20260425T021928Z
URL:https://business.barringtonchamber.com/events/details/virtual-ribbon-cutting-photo-ceremony-at-edyta-fine-art-and-design-27267
END:VEVENT

END:VCALENDAR
