BEGIN:VCALENDAR
VERSION:2.0
PRODID:-//ChamberMaster//Event Calendar 2.0//EN
METHOD:PUBLISH
X-PUBLISHED-TTL:P3D
REFRESH-INTERVAL:P3D
CALSCALE:GREGORIAN
BEGIN:VEVENT
DTSTART:20200813T210000Z
DTEND:20200813T220000Z
X-MICROSOFT-CDO-ALLDAYEVENT:FALSE
SUMMARY:Virtual Ribbon Cutting Ceremony at Cold Stone Creamery and Rocky Mountain Chocolate Factory
DESCRIPTION:Join us for a Virtual Ribbon Cutting Photo Ceremony at  Virtual Ribbon Cutting Photo Ceremony at Cold Stone Creamery and Rocky Mountain Chocolate Factory to celebrate their new expansion!
X-ALT-DESC;FMTTYPE=text/html:Join us for a Virtual Ribbon Cutting Photo Ceremony at&nbsp\;&nbsp\;Virtual Ribbon Cutting Photo Ceremony at Cold Stone Creamery and Rocky Mountain Chocolate Factory to celebrate their new expansion!
LOCATION:Cold Stone Creamery and Rocky Mountain Chocolate Factory 20330 N Deer Park Blvd.\, Ste. 106 Deer Park Town Center Deer Park
UID:e.21.27078
SEQUENCE:3
DTSTAMP:20260425T022009Z
URL:https://business.barringtonchamber.com/events/details/virtual-ribbon-cutting-ceremony-at-cold-stone-creamery-and-rocky-mountain-chocolate-factory-27078
END:VEVENT

END:VCALENDAR
