BEGIN:VCALENDAR
VERSION:2.0
PRODID:-//ChamberMaster//Event Calendar 2.0//EN
METHOD:PUBLISH
X-PUBLISHED-TTL:P3D
REFRESH-INTERVAL:P3D
CALSCALE:GREGORIAN
BEGIN:VEVENT
DTSTART:20210513T140000Z
DTEND:20210513T160000Z
X-MICROSOFT-CDO-ALLDAYEVENT:FALSE
SUMMARY:Tough Talks: Making Difficult Conversations More Productive
DESCRIPTION:Nobody enjoys facing a difficult conversation\, but it can be an inevitable part of a manager's job. The ability to handle tough situations and share feedback effectively is a critical skill required of anyone in a leadership position. Avoiding such talks only creates greater challenges\, while tackling them with empathy and intelligence can lead to increased engagement and more positive relationships.
X-ALT-DESC;FMTTYPE=text/html:Nobody enjoys facing a difficult conversation\, but it can be an inevitable part of a manager&#39\;s job. The ability to handle tough situations and share feedback effectively is a critical skill required of anyone in a leadership position. Avoiding such talks only creates greater challenges\, while tackling them with empathy and intelligence can lead to increased engagement and more positive relationships.
LOCATION:Live Zoom
UID:e.21.27864
SEQUENCE:3
DTSTAMP:20260421T150627Z
URL:https://business.barringtonchamber.com/events/details/tough-talks-making-difficult-conversations-more-productive-27864
END:VEVENT

END:VCALENDAR
