BEGIN:VCALENDAR
VERSION:2.0
PRODID:-//ChamberMaster//Event Calendar 2.0//EN
METHOD:PUBLISH
X-PUBLISHED-TTL:P3D
REFRESH-INTERVAL:P3D
CALSCALE:GREGORIAN
BEGIN:VEVENT
DTSTART:20200805T000000Z
DTEND:20200805T013000Z
X-MICROSOFT-CDO-ALLDAYEVENT:FALSE
SUMMARY:Ten Tips for Small Business Employment
DESCRIPTION:While employers face numerous and often confusing regulations\, each new year brings new obligations to employers nationwide. This seminar will discuss key legal compliance items and practical tips for small employers\, based upon ten broad rules. Registrants will be emailed the link to the virtual presentation. Lori A. Goldstein of SCORE presents. Register. Virtual.
X-ALT-DESC;FMTTYPE=text/html:While employers face numerous and often confusing regulations\, each new year brings new obligations to employers nationwide. This seminar will discuss key legal compliance items and practical tips for small employers\, based upon ten broad rules. Registrants will be emailed the link to the virtual presentation. Lori A. Goldstein of SCORE presents. Register. Virtual.
LOCATION:Online
UID:e.21.27289
SEQUENCE:3
DTSTAMP:20260425T021708Z
URL:https://business.barringtonchamber.com/events/details/ten-tips-for-small-business-employment-27289
END:VEVENT

END:VCALENDAR
