BEGIN:VCALENDAR
VERSION:2.0
PRODID:-//ChamberMaster//Event Calendar 2.0//EN
METHOD:PUBLISH
X-PUBLISHED-TTL:P3D
REFRESH-INTERVAL:P3D
CALSCALE:GREGORIAN
BEGIN:VEVENT
DTSTART:20220413T163000Z
DTEND:20220413T170000Z
X-MICROSOFT-CDO-ALLDAYEVENT:FALSE
SUMMARY:Tech Talk: Staying Organized in Microsoft Outlook Part 2
DESCRIPTION:How do you stay organized at work? Do you have handwritten lists? Do you use your calendar as a to-do? Do you have an app? In this month's 30 minute webinar\, we explore how to stay organized in Microsoft Outlook. Including tasks\, to-do\, and Trello.\n\nRegister for the webinar link to join us on Wednesday\, April 13th\, and to receive a playback after the webinar: https://us02web.zoom.us/meeting/register/tZ0sceirpz0sGdHlyMT5xuK-yY4W_woSavf-
X-ALT-DESC;FMTTYPE=text/html:<span style="color:rgb(102\, 102\, 102)\; font-family:open sans\,sans-serif\; font-size:14px">How do you stay organized at work? Do you have handwritten lists? Do you use your calendar as a to-do? Do you have an app? In this month&#39\;s 30 minute webinar\, we explore how to stay organized in Microsoft Outlook. Including tasks\, to-do\, and Trello.<br />\nRegister for the webinar link to join us on Wednesday\, April 13th\, and to receive a playback after the webinar: <a href="https://us02web.zoom.us/meeting/register/tZ0sceirpz0sGdHlyMT5xuK-yY4W_woSavf-">https://us02web.zoom.us/meeting/register/tZ0sceirpz0sGdHlyMT5xuK-yY4W_woSavf-</a></span>
LOCATION:Register for our webinar link: https://us02web.zoom.us/meeting/register/tZ0sceirpz0sGdHlyMT5xuK-yY4W_woSavf-
UID:e.21.28686
SEQUENCE:3
DTSTAMP:20260422T173804Z
URL:https://business.barringtonchamber.com/events/details/tech-talk-staying-organized-in-microsoft-outlook-part-2-28686
END:VEVENT

END:VCALENDAR
