BEGIN:VCALENDAR
VERSION:2.0
PRODID:-//ChamberMaster//Event Calendar 2.0//EN
METHOD:PUBLISH
X-PUBLISHED-TTL:P3D
REFRESH-INTERVAL:P3D
CALSCALE:GREGORIAN
BEGIN:VEVENT
DTSTART:20210916T220000Z
DTEND:20210916T230000Z
X-MICROSOFT-CDO-ALLDAYEVENT:FALSE
SUMMARY:Starting Your Business in Illinois
DESCRIPTION:Starting a business in Illinois is exciting\, but also challenging. Attend this no-cost workshop to learn the things you need to consider and the requirements to start and own a business in Illinois. Learn the basic elements of starting a successful business such as choosing a business structure\, determining tax requirements\, marketing and selling and much more. Get answers to the most frequently asked questions!
X-ALT-DESC;FMTTYPE=text/html:Starting a business in Illinois is exciting\, but also challenging. Attend this no-cost workshop to learn the things you need to consider and the requirements to start and own a business in Illinois. Learn the basic elements of starting a successful business such as choosing a business structure\, determining tax requirements\, marketing and selling and much more. Get answers to the most frequently asked questions!
LOCATION:Live Zoom
UID:e.21.28046
SEQUENCE:3
DTSTAMP:20260421T121631Z
URL:https://business.barringtonchamber.com/events/details/starting-your-business-in-illinois-09-16-2021-28046
END:VEVENT

END:VCALENDAR
