BEGIN:VCALENDAR
VERSION:2.0
PRODID:-//ChamberMaster//Event Calendar 2.0//EN
METHOD:PUBLISH
X-PUBLISHED-TTL:P3D
REFRESH-INTERVAL:P3D
CALSCALE:GREGORIAN
BEGIN:VEVENT
DTSTART:20130725T150000Z
DTEND:20130727T220000Z
X-MICROSOFT-CDO-ALLDAYEVENT:FALSE
SUMMARY:Sidewalk Days 2013 - 7/25-7/27
DESCRIPTION:REGISTRATION CLOSED\n\n\n\nIt's our annual Sidewalk Days in Barrington! As a yearly tradition\, we invite you to participate in this Retail Exhibit featuring a variety of retail stores and outdoor vendors in the village and surrounding shopping districts including:\n\n\n	\n		Downtown Barrington\n	\n		Ice House Mall\n	\n		Lageschulte Street\n	\n		The Foundry\n\nAdditionally\, we'll have a Chalk Art Contest the The Ice House Mall!
X-ALT-DESC;FMTTYPE=text/html:REGISTRATION CLOSED<br />\n<br />\nIt&#39\;s our annual Sidewalk Days in Barrington! As a yearly tradition\, we invite you to participate in this Retail Exhibit featuring a variety of retail stores and outdoor vendors in the village and surrounding shopping districts including:<br />\n<ul>\n	<li>\n		Downtown Barrington</li>\n	<li>\n		Ice House Mall</li>\n	<li>\n		Lageschulte Street</li>\n	<li>\n		The Foundry</li>\n</ul>\nAdditionally\, we&#39\;ll have a Chalk Art Contest the The Ice House Mall!<br />\n<br />\n<br />\n
LOCATION:Downtown Barrington (by the Metra Station) including Main St.\, Cook St.\, Station St.\, Jewel-Osco\, the Ice House Mall\, The Foundry (Hart Rd. & Rte. 14)\, Shops on Lageschulte\, and along Rte. 14.
UID:e.21.7258
SEQUENCE:3
DTSTAMP:20260423T173126Z
URL:https://business.barringtonchamber.com/events/details/sidewalk-days-2013-7-25-7-27-07-25-2013-7258
END:VEVENT

END:VCALENDAR
