BEGIN:VCALENDAR
VERSION:2.0
PRODID:-//ChamberMaster//Event Calendar 2.0//EN
METHOD:PUBLISH
X-PUBLISHED-TTL:P3D
REFRESH-INTERVAL:P3D
CALSCALE:GREGORIAN
BEGIN:VEVENT
DTSTART:20220317T143000Z
DTEND:20220317T150000Z
X-MICROSOFT-CDO-ALLDAYEVENT:FALSE
SUMMARY:Ribbon Cutting Photo Ceremony at Madison Reed in Deer Park Town Center
DESCRIPTION:Join us for a ribbon cutting photo ceremony to celebrate the opening of Madison Reed in Deer Park Town Center.
X-ALT-DESC;FMTTYPE=text/html:Join us for a ribbon cutting photo ceremony to celebrate the opening of Madison Reed in Deer Park Town Center.
LOCATION:20530 N. Rand Rd. #414 Deer Park\, IL
UID:e.21.28643
SEQUENCE:3
DTSTAMP:20260422T191302Z
URL:https://business.barringtonchamber.com/events/details/ribbon-cutting-photo-ceremony-at-madison-reed-in-deer-park-town-center-28643
END:VEVENT

END:VCALENDAR
