BEGIN:VCALENDAR
VERSION:2.0
PRODID:-//ChamberMaster//Event Calendar 2.0//EN
METHOD:PUBLISH
X-PUBLISHED-TTL:P3D
REFRESH-INTERVAL:P3D
CALSCALE:GREGORIAN
BEGIN:VEVENT
DTSTART:20220421T214500Z
DTEND:20220422T000000Z
X-MICROSOFT-CDO-ALLDAYEVENT:FALSE
SUMMARY:Ribbon Cutting & Mixer at BMO
DESCRIPTION:Join us for a Ribbon Cutting Celebration and Mixer hosted by BMO Bank & BMO Wealth Management in Barrington!\n\n\n\nWalk-ins Welcome!
X-ALT-DESC;FMTTYPE=text/html:Join us for a Ribbon Cutting Celebration and Mixer hosted by BMO Bank &amp\; BMO Wealth Management in Barrington!<br />\n<br />\n<span style="color:#FF0000\;"><strong>Walk-ins Welcome!</strong></span>
LOCATION:201 S. Grove Ave Barrington\,
UID:e.21.28641
SEQUENCE:3
DTSTAMP:20260422T174000Z
URL:https://business.barringtonchamber.com/events/details/ribbon-cutting-mixer-at-bmo-28641
END:VEVENT

END:VCALENDAR
