BEGIN:VCALENDAR
VERSION:2.0
PRODID:-//ChamberMaster//Event Calendar 2.0//EN
METHOD:PUBLISH
X-PUBLISHED-TTL:P3D
REFRESH-INTERVAL:P3D
CALSCALE:GREGORIAN
BEGIN:VEVENT
DTSTART:20241003T213000Z
DTEND:20241004T000000Z
X-MICROSOFT-CDO-ALLDAYEVENT:FALSE
SUMMARY:Ribbon Cutting & After Hours Mixer at SOUL Harbour Ranch
DESCRIPTION:Join us for a Ribbon Cutting Photo Ceremony and After Hours Mixer to celebrate the Fogla Family Foundation Training Center at SOUL Harbour Ranch! \n\n\n\nPlease click the Registration link on this page to RSVP for the event.
X-ALT-DESC;FMTTYPE=text/html:Join us for a&nbsp\;Ribbon Cutting Photo Ceremony and After Hours Mixer to celebrate the Fogla Family Foundation Training Center at SOUL Harbour Ranch!&nbsp\;<br />\n<br />\n<span style="font-size:16px\;"><span style="color:#0000FF\;"><strong>Please click the Registration link on this page to <u>RSVP </u>for the event.</strong></span></span><br />\n<br />\n&nbsp\;
LOCATION:22093 N. Countryside Ln.\, Barrington
UID:e.21.31612
SEQUENCE:3
DTSTAMP:20260422T045631Z
URL:https://business.barringtonchamber.com/events/details/ribbon-cutting-after-hours-mixer-at-soul-harbour-ranch-31612
END:VEVENT

END:VCALENDAR
