BEGIN:VCALENDAR
VERSION:2.0
PRODID:-//ChamberMaster//Event Calendar 2.0//EN
METHOD:PUBLISH
X-PUBLISHED-TTL:P3D
REFRESH-INTERVAL:P3D
CALSCALE:GREGORIAN
BEGIN:VEVENT
DTSTART:20210502T200000Z
DTEND:20210502T213000Z
X-MICROSOFT-CDO-ALLDAYEVENT:FALSE
SUMMARY:Rachel Barton Pine\, Violin
DESCRIPTION:Renowned violinist Rachel Barton Pine returns to Barrington's White House in 2021! In both art and life\, violinist Rachel Barton Pine has an extraordinary ability to connect with people. Celebrated as a leading interpreter of great classic and contemporary works\, her performances combine her innate gift for emotional communication and her scholarly fascination with historical research. She plays with passion and conviction\, thrilling audiences worldwide with her dazzling technique\, lustrous tone\, and infectious joy in music-making.
X-ALT-DESC;FMTTYPE=text/html:Renowned violinist Rachel Barton Pine returns to Barrington&rsquo\;s White House in 2021! In both art and life\, violinist Rachel Barton Pine has an extraordinary ability to connect with people. Celebrated as a leading interpreter of great classic and contemporary works\, her performances combine her innate gift for emotional communication and her scholarly fascination with historical research. She plays with passion and conviction\, thrilling audiences worldwide with her dazzling technique\, lustrous tone\, and infectious joy in music-making.
LOCATION:Barrington's White House
UID:e.21.27736
SEQUENCE:3
DTSTAMP:20260422T161053Z
URL:https://business.barringtonchamber.com/events/details/rachel-barton-pine-violin-27736
END:VEVENT

END:VCALENDAR
