BEGIN:VCALENDAR
VERSION:2.0
PRODID:-//ChamberMaster//Event Calendar 2.0//EN
METHOD:PUBLISH
X-PUBLISHED-TTL:P3D
REFRESH-INTERVAL:P3D
CALSCALE:GREGORIAN
BEGIN:VEVENT
DTSTART:20210517T130000Z
DTEND:20210517T170000Z
X-MICROSOFT-CDO-ALLDAYEVENT:FALSE
SUMMARY:PowerPoint Advanced
DESCRIPTION:PowerPoint provides you with a variety of such tools that can help you deliver content in nearly any situation\, while saving time and effort. By taking advantage of these tools\, you will be creating presentations that not only stand out from the crowd\, but also don't consume all of your available time.
X-ALT-DESC;FMTTYPE=text/html:PowerPoint provides you with a variety of such tools that can help you deliver content in nearly any situation\, while saving time and effort. By taking advantage of these tools\, you will be creating presentations that not only stand out from the crowd\, but also don&#39\;t consume all of your available time.
LOCATION:Live Zoom
UID:e.21.27874
SEQUENCE:3
DTSTAMP:20260422T084511Z
URL:https://business.barringtonchamber.com/events/details/powerpoint-advanced-05-17-2021-27874
END:VEVENT

END:VCALENDAR
