BEGIN:VCALENDAR
VERSION:2.0
PRODID:-//ChamberMaster//Event Calendar 2.0//EN
METHOD:PUBLISH
X-PUBLISHED-TTL:P3D
REFRESH-INTERVAL:P3D
CALSCALE:GREGORIAN
BEGIN:VEVENT
DTSTART:20210507T000000Z
DTEND:20210507T013000Z
X-MICROSOFT-CDO-ALLDAYEVENT:FALSE
SUMMARY:Poetry Reading
DESCRIPTION:Back by popular demand! The Barrington Cultural Commission presents a series of poetry readings submitted and read by local citizens on Thursday\, May 6. Watch for a call for poems in early March. Theme to be announced!
X-ALT-DESC;FMTTYPE=text/html:Back by popular demand! The Barrington Cultural Commission presents a series of poetry readings submitted and read by local citizens on Thursday\, May 6. Watch for a call for poems in early March. Theme to be announced!
LOCATION:Barrington's White House
UID:e.21.27737
SEQUENCE:3
DTSTAMP:20260425T035746Z
URL:https://business.barringtonchamber.com/events/details/poetry-reading-27737
END:VEVENT

END:VCALENDAR
