BEGIN:VCALENDAR
VERSION:2.0
PRODID:-//ChamberMaster//Event Calendar 2.0//EN
METHOD:PUBLISH
X-PUBLISHED-TTL:P3D
REFRESH-INTERVAL:P3D
CALSCALE:GREGORIAN
BEGIN:VEVENT
DTSTART:20220316T133000Z
DTEND:20220316T173000Z
X-MICROSOFT-CDO-ALLDAYEVENT:FALSE
SUMMARY:Outlook Emailing and Calendar Techniques
DESCRIPTION:If you use Outlook\, you know how useful its calendar is for scheduling appointments and meetings. But there's more to the calendar and emails than you might think. This workshop will help you become more efficient and organized in your daily work.
X-ALT-DESC;FMTTYPE=text/html:If you use Outlook\, you know how useful its calendar is for scheduling appointments and meetings. But there&rsquo\;s more to the calendar and emails than you might think. This workshop will help you become more efficient and organized in your daily work.
LOCATION:Live Zoom
UID:e.21.28645
SEQUENCE:3
DTSTAMP:20260422T190545Z
URL:https://business.barringtonchamber.com/events/details/outlook-emailing-and-calendar-techniques-28645
END:VEVENT

END:VCALENDAR
