BEGIN:VCALENDAR
VERSION:2.0
PRODID:-//ChamberMaster//Event Calendar 2.0//EN
METHOD:PUBLISH
X-PUBLISHED-TTL:P3D
REFRESH-INTERVAL:P3D
CALSCALE:GREGORIAN
BEGIN:VEVENT
DTSTART:20220412T140000Z
DTEND:20220412T144500Z
X-MICROSOFT-CDO-ALLDAYEVENT:FALSE
SUMMARY:NEW! Career Development: Help Them Grow or Watch Them Go
DESCRIPTION:More than ever\, employees are keen to have developmental opportunities at work. Career growth and advancement is a "must"\, as are learning and development that provide skills and knowledge beyond a basic job description or function. What can you offer your staff when it comes to their careers?
X-ALT-DESC;FMTTYPE=text/html:More than ever\, employees are keen to have developmental opportunities at work. Career growth and advancement is a &quot\;must&quot\;\, as are learning and development that provide skills and knowledge beyond a basic job description or function. What can you offer your staff when it comes to their careers?
LOCATION:Live Zoom
UID:e.21.28631
SEQUENCE:3
DTSTAMP:20260422T174131Z
URL:https://business.barringtonchamber.com/events/details/new-career-development-help-them-grow-or-watch-them-go-28631
END:VEVENT

END:VCALENDAR
