BEGIN:VCALENDAR
VERSION:2.0
PRODID:-//ChamberMaster//Event Calendar 2.0//EN
METHOD:PUBLISH
X-PUBLISHED-TTL:P3D
REFRESH-INTERVAL:P3D
CALSCALE:GREGORIAN
BEGIN:VEVENT
DTSTART:20230516T230000Z
DTEND:20230517T020000Z
X-MICROSOFT-CDO-ALLDAYEVENT:FALSE
SUMMARY:NAMI Family To Family Class - Tuesdays
DESCRIPTION:Do you think a family member is struggling with a mental health condition?\n\n\n\nDo you wish you understood more about mental illnesses so you could better help your loved one and learn how to cope with having a mental illness in your family?
X-ALT-DESC;FMTTYPE=text/html:<br />\nDo you think a family member is struggling with a mental health condition?<br />\n<br />\nDo you wish you understood more about mental illnesses so you could better help your loved one and learn how to cope with having a mental illness in your family?<br />\n<br />\n&nbsp\;
LOCATION:Lake Zurich
UID:e.21.29064
SEQUENCE:3
DTSTAMP:20260423T235103Z
URL:https://business.barringtonchamber.com/events/details/nami-family-to-family-class-tuesdays-05-16-2023-29064
END:VEVENT

END:VCALENDAR
