BEGIN:VCALENDAR
VERSION:2.0
PRODID:-//ChamberMaster//Event Calendar 2.0//EN
METHOD:PUBLISH
X-PUBLISHED-TTL:P3D
REFRESH-INTERVAL:P3D
CALSCALE:GREGORIAN
BEGIN:VEVENT
DTSTART:20260510T150000Z
DTEND:20260510T200000Z
X-MICROSOFT-CDO-ALLDAYEVENT:FALSE
SUMMARY:Mother's Day Brunch
DESCRIPTION:To Make Reservations: https://tables.toasttab.com/restaurants/baa6a3f4-3474-4002-8640-8c7bfc701397/reserve?partySize=2&dateTime=2026-04-19T17:00:00.000-05:00
X-ALT-DESC;FMTTYPE=text/html:To Make Reservations:&nbsp\;https://tables.toasttab.com/restaurants/baa6a3f4-3474-4002-8640-8c7bfc701397/reserve?partySize=2&amp\;dateTime=2026-04-19T17:00:00.000-05:00
LOCATION:Wild Onion Brewery & Banquets
UID:e.21.35177
SEQUENCE:3
DTSTAMP:20260421T185702Z
URL:https://business.barringtonchamber.com/events/details/mother-s-day-brunch-05-10-2026-35177
END:VEVENT

END:VCALENDAR
