BEGIN:VCALENDAR
VERSION:2.0
PRODID:-//ChamberMaster//Event Calendar 2.0//EN
METHOD:PUBLISH
X-PUBLISHED-TTL:P3D
REFRESH-INTERVAL:P3D
CALSCALE:GREGORIAN
BEGIN:VEVENT
DTSTART:20220330T163000Z
DTEND:20220330T180000Z
X-MICROSOFT-CDO-ALLDAYEVENT:FALSE
SUMMARY:Midday Mix at Tacos Guanajuato
DESCRIPTION:Join us for lunch and an informal monthly networking opportunity at Tacos Guanajuato in Kildeer! Bring your business card and 30-second intro to share.
X-ALT-DESC;FMTTYPE=text/html:Join us for lunch and an informal monthly networking opportunity at Tacos&nbsp\;Guanajuato in Kildeer! Bring your business card and 30-second intro to share.<br />\n<br />\n&nbsp\;
LOCATION:Tacos Guanajuato 20771 N. Rand Rd. Kildeer
UID:e.21.28636
SEQUENCE:3
DTSTAMP:20260422T191030Z
URL:https://business.barringtonchamber.com/events/details/midday-mix-at-tacos-guanajuato-28636
END:VEVENT

END:VCALENDAR
