BEGIN:VCALENDAR
VERSION:2.0
PRODID:-//ChamberMaster//Event Calendar 2.0//EN
METHOD:PUBLISH
X-PUBLISHED-TTL:P3D
REFRESH-INTERVAL:P3D
CALSCALE:GREGORIAN
BEGIN:VEVENT
DTSTART:20200708T170000Z
DTEND:20200708T181500Z
X-MICROSOFT-CDO-ALLDAYEVENT:FALSE
SUMMARY:Midday Meetup at Enzo & Lucia's July 2020
DESCRIPTION:Midday Meetup\n\nJoin us for an informal monthly networking opportunity and lunch!
X-ALT-DESC;FMTTYPE=text/html:<span style="font-size:14px\;">Midday Meetup<br />\nJoin us for an informal monthly networking opportunity and lunch!</span>
LOCATION:Enzo & Lucia's Ristorante & Cafe 343 Old McHenry Rd. Long Grove\, IL
UID:e.21.26437
SEQUENCE:3
DTSTAMP:20260425T035950Z
URL:https://business.barringtonchamber.com/events/details/midday-meetup-at-enzo-lucia-s-july-2020-26437
END:VEVENT

END:VCALENDAR
