BEGIN:VCALENDAR
VERSION:2.0
PRODID:-//ChamberMaster//Event Calendar 2.0//EN
METHOD:PUBLISH
X-PUBLISHED-TTL:P3D
REFRESH-INTERVAL:P3D
CALSCALE:GREGORIAN
BEGIN:VEVENT
DTSTART:20200812T170000Z
DTEND:20200812T181500Z
X-MICROSOFT-CDO-ALLDAYEVENT:FALSE
SUMMARY:Midday Meetup at Brunch Cafe Kildeer Aug 2020
DESCRIPTION:Midday Meetup\n\nJoin us for an informal monthly networking opportunity and lunch!
X-ALT-DESC;FMTTYPE=text/html:<span style="font-size:14px\;">Midday Meetup<br />\nJoin us for an informal monthly networking opportunity and lunch!</span>
LOCATION:Brunch Cafe 20393 N. Rand Rd. Kildeer\, IL
UID:e.21.26433
SEQUENCE:3
DTSTAMP:20260425T033440Z
URL:https://business.barringtonchamber.com/events/details/midday-meetup-at-brunch-cafe-kildeer-aug-2020-26433
END:VEVENT

END:VCALENDAR
