BEGIN:VCALENDAR
VERSION:2.0
PRODID:-//ChamberMaster//Event Calendar 2.0//EN
METHOD:PUBLISH
X-PUBLISHED-TTL:P3D
REFRESH-INTERVAL:P3D
CALSCALE:GREGORIAN
BEGIN:VEVENT
DTSTART:20210811T220000Z
DTEND:20210812T000000Z
X-MICROSOFT-CDO-ALLDAYEVENT:FALSE
SUMMARY:Media and Public Relations
DESCRIPTION:Media and Public Relations is the most successful method of communicating your value to those around you. Furthermore\, good networking skills enable you to tap into those relationships you already have and increase the scope of your network. The larger the scope the more people know you and offer you opportunities.
X-ALT-DESC;FMTTYPE=text/html:Media and Public Relations is the most successful method of communicating your value to those around you. Furthermore\, good networking skills enable you to tap into those relationships you already have and increase the scope of your network. The larger the scope the more people know you and offer you opportunities.
LOCATION:Live Zoom
UID:e.21.28082
SEQUENCE:3
DTSTAMP:20260419T174245Z
URL:https://business.barringtonchamber.com/events/details/media-and-public-relations-28082
END:VEVENT

END:VCALENDAR
