BEGIN:VCALENDAR
VERSION:2.0
PRODID:-//ChamberMaster//Event Calendar 2.0//EN
METHOD:PUBLISH
X-PUBLISHED-TTL:P3D
REFRESH-INTERVAL:P3D
CALSCALE:GREGORIAN
BEGIN:VEVENT
DTSTART:20220626T223000Z
DTEND:20220627T000000Z
X-MICROSOFT-CDO-ALLDAYEVENT:FALSE
SUMMARY:Mane in Heaven Peace with Ponies
DESCRIPTION:Parents and adults join us for Peace with Ponies on June 26th. This is a free event geared towards adults. Mane in Heaven Miniature Therapy Horses and our friends at Vibrant Yoga will be our guides to mindfulness\, connection and community. Space is limited to first registered.
X-ALT-DESC;FMTTYPE=text/html:Parents and adults join us for Peace with Ponies on June 26th. This is a free event geared towards adults. Mane in Heaven Miniature Therapy Horses and our friends at Vibrant Yoga will be our guides to mindfulness\, connection and community. Space is limited to first registered.
LOCATION:Barrington Campus Life
UID:e.21.28769
SEQUENCE:3
DTSTAMP:20260422T122305Z
URL:https://business.barringtonchamber.com/events/details/mane-in-heaven-peace-with-ponies-28769
END:VEVENT

END:VCALENDAR
