BEGIN:VCALENDAR
VERSION:2.0
PRODID:-//ChamberMaster//Event Calendar 2.0//EN
METHOD:PUBLISH
X-PUBLISHED-TTL:P3D
REFRESH-INTERVAL:P3D
CALSCALE:GREGORIAN
BEGIN:VEVENT
DTSTART:20210519T133000Z
DTEND:20210519T200000Z
X-MICROSOFT-CDO-ALLDAYEVENT:FALSE
SUMMARY:Learning Day (Five one-hour virtual training sessions)
DESCRIPTION:Sign up for our one-hour virtual training sessions to increase your work effectiveness and productivity. Professional business trainer Michael Sugarman facilitates five business workshops in one day. Attend as many or as few as you want! Schedule: 1. Ten Ways to Keep You and Your Staff Positive (8:30 - 9:30 a.m.) 2. How to Handle Difficult People (9:45 - 10:45 a.m.) 3. Top Eight Management Skills all Business Leaders Need (11 a.m. to 12 p.m.) 4. Improve Your Business Writing (12:45 - 1:45 p.m.) 5. How to Give Great Presentations (2 - 3 p.m.)
X-ALT-DESC;FMTTYPE=text/html:Sign up for our one-hour virtual training sessions to increase your work effectiveness and productivity. Professional business trainer Michael Sugarman facilitates five business workshops in one day. Attend as many or as few as you want! Schedule: 1. Ten Ways to Keep You and Your Staff Positive (8:30 - 9:30 a.m.) 2. How to Handle Difficult People (9:45 - 10:45 a.m.) 3. Top Eight Management Skills all Business Leaders Need (11 a.m. to 12 p.m.) 4. Improve Your Business Writing (12:45 - 1:45 p.m.) 5. How to Give Great Presentations (2 - 3 p.m.)
LOCATION:Live Zoom
UID:e.21.27867
SEQUENCE:3
DTSTAMP:20260421T121004Z
URL:https://business.barringtonchamber.com/events/details/learning-day-five-one-hour-virtual-training-sessions-27867
END:VEVENT

END:VCALENDAR
