BEGIN:VCALENDAR
VERSION:2.0
PRODID:-//ChamberMaster//Event Calendar 2.0//EN
METHOD:PUBLISH
X-PUBLISHED-TTL:P3D
REFRESH-INTERVAL:P3D
CALSCALE:GREGORIAN
BEGIN:VEVENT
DTSTART:20220330T170000Z
DTEND:20220330T180000Z
X-MICROSOFT-CDO-ALLDAYEVENT:FALSE
SUMMARY:Israeli and Palestinian Women: “The Only Way Forward Is Together”
DESCRIPTION:You are invited to a virtual talk by Robi Damelin of the Israeli/Palestinian non-profit The Parent's Circle.  Robi has lost a son in the Mideast Conflict and now works on peace and reconciliation.  \n\nRegister here:  https://us02web.zoom.us/meeting/register/tZYlf-upqDwqH9V73PuhrdB62qEfC-c0j8Vf
X-ALT-DESC;FMTTYPE=text/html:<p>You are invited to a virtual talk by Robi Damelin of the Israeli/Palestinian non-profit The Parent&rsquo\;s Circle. &nbsp\;Robi has lost a son in the Mideast Conflict and now works on peace and reconciliation. &nbsp\;<br />\nRegister here: &nbsp\;<a href="https://us02web.zoom.us/meeting/register/tZYlf-upqDwqH9V73PuhrdB62qEfC-c0j8Vf">https://us02web.zoom.us/meeting/register/tZYlf-upqDwqH9V73PuhrdB62qEfC-c0j8Vf</a></p>\n
LOCATION:Virtual Talk
UID:e.21.28684
SEQUENCE:3
DTSTAMP:20260422T191126Z
URL:https://business.barringtonchamber.com/events/details/israeli-and-palestinian-women-the-only-way-forward-is-together-28684
END:VEVENT

END:VCALENDAR
