BEGIN:VCALENDAR
VERSION:2.0
PRODID:-//ChamberMaster//Event Calendar 2.0//EN
METHOD:PUBLISH
X-PUBLISHED-TTL:P3D
REFRESH-INTERVAL:P3D
CALSCALE:GREGORIAN
BEGIN:VEVENT
DTSTART:20260508T133000Z
DTEND:20260508T220000Z
X-MICROSOFT-CDO-ALLDAYEVENT:FALSE
SUMMARY:In-person Alzheimer's and Dementia Care Training - New Perspective Long Grove
DESCRIPTION:BACK BY POPULAR DEMAND ... New Perspective Long Grove is pleased to offer an exceptional opportunity to begin your journey toward becoming a Certified Dementia Practitioner (CDP) at a highly discounted rate.\n\nWe will be hosting three available in-person sessions of the Alzheimer's Disease and Dementia Care Seminar\, the required course for CDP certification. Choose the date that works best for you.  This comprehensive seminar provides foundational education on dementia and dementia care\, focusing on best practices to enhance the quality of life for individuals living with dementia.
X-ALT-DESC;FMTTYPE=text/html:BACK BY POPULAR DEMAND ... New Perspective Long Grove is pleased to offer an exceptional opportunity to begin your journey toward becoming a Certified Dementia Practitioner (CDP) at a highly discounted rate.<br />\nWe will be hosting three available in-person sessions of the Alzheimer&#39\;s Disease and Dementia Care Seminar\, the required course for CDP certification. Choose the date that works best for you.&nbsp\; This comprehensive seminar provides foundational education on dementia and dementia care\, focusing on best practices to enhance the quality of life for individuals living with dementia.
LOCATION:New Perspective Long Grove 2300 IL RTE 53 Long Grove IL 60047
UID:e.21.35178
SEQUENCE:3
DTSTAMP:20260423T193319Z
URL:https://business.barringtonchamber.com/events/details/in-person-alzheimer-s-and-dementia-care-training-new-perspective-long-grove-35178
END:VEVENT

END:VCALENDAR
