BEGIN:VCALENDAR
VERSION:2.0
PRODID:-//ChamberMaster//Event Calendar 2.0//EN
METHOD:PUBLISH
X-PUBLISHED-TTL:P3D
REFRESH-INTERVAL:P3D
CALSCALE:GREGORIAN
BEGIN:VEVENT
DTSTART:20220326T140000Z
DTEND:20220326T170000Z
X-MICROSOFT-CDO-ALLDAYEVENT:FALSE
SUMMARY:Growing Wild Asparagus Catering - Job Fair
DESCRIPTION:We are looking for energetic people to join our team.  Positions are part time with flexible scheduling.
X-ALT-DESC;FMTTYPE=text/html:We are looking for energetic people to join our team.&nbsp\; Positions are part time with flexible scheduling.
LOCATION:22000 N Pepper Road\, Unit D Lake Barrington
UID:e.21.28675
SEQUENCE:3
DTSTAMP:20260422T191028Z
URL:https://business.barringtonchamber.com/events/details/growing-wild-asparagus-catering-job-fair-28675
END:VEVENT

END:VCALENDAR
