BEGIN:VCALENDAR
VERSION:2.0
PRODID:-//ChamberMaster//Event Calendar 2.0//EN
METHOD:PUBLISH
X-PUBLISHED-TTL:P3D
REFRESH-INTERVAL:P3D
CALSCALE:GREGORIAN
BEGIN:VEVENT
DTSTART:20200818T190000Z
DTEND:20200818T200000Z
X-MICROSOFT-CDO-ALLDAYEVENT:FALSE
SUMMARY:Getting a Pulse on Local Non Profits - Virtual Meeting
DESCRIPTION:Join BACC for our FOURTH Zoom check-in with Local Nonprofits to share ideas\, resources\, and inspiration!
X-ALT-DESC;FMTTYPE=text/html:Join BACC for our FOURTH Zoom check-in with Local Nonprofits to share ideas\, resources\, and inspiration!
LOCATION:Zoom meeting - Register to receive the link.
UID:e.21.27280
SEQUENCE:3
DTSTAMP:20260425T021212Z
URL:https://business.barringtonchamber.com/events/details/getting-a-pulse-on-local-non-profits-virtual-meeting-27280
END:VEVENT

END:VCALENDAR
