BEGIN:VCALENDAR
VERSION:2.0
PRODID:-//ChamberMaster//Event Calendar 2.0//EN
METHOD:PUBLISH
X-PUBLISHED-TTL:P3D
REFRESH-INTERVAL:P3D
CALSCALE:GREGORIAN
BEGIN:VEVENT
DTSTART:20220327T200000Z
DTEND:20220327T213000Z
X-MICROSOFT-CDO-ALLDAYEVENT:FALSE
SUMMARY:FREE Concert at The Presbyterian Church of Barrington
DESCRIPTION:The public is invited to enjoy the second of three FREE "Music on the Hill" concerts on Sunday\, March 27 at 3:00 pm at The Presbyterian Church of Barrington! Join us for a stunning performance of the Michael Hadyn Requiem featuring the PCB Sanctuary Choir\, guest soloists and a professional orchestra. A reception with light refreshments will follow the concert.\n\n\n\nFor details visit: pcbarrington.org
X-ALT-DESC;FMTTYPE=text/html:The public is invited to enjoy the second of three FREE &quot\;Music on the Hill&quot\; concerts on Sunday\, March 27 at 3:00 pm at The Presbyterian Church of Barrington! Join us for a stunning performance of the <strong>Michael Hadyn Requiem</strong> featuring the PCB Sanctuary Choir\, guest soloists and a professional orchestra. A reception with light refreshments will follow the concert.<br />\n<br />\nFor details visit: <u><strong><a href="https://www.pcbarrington.org/"><span style="color:#0000CD\;">pcbarrington.org</span></a></strong></u>
LOCATION:The Presbyterian Church of Barrington 6 Brinker Road Barrington Hills\, IL 60010
UID:e.21.28676
SEQUENCE:3
DTSTAMP:20260422T191222Z
URL:https://business.barringtonchamber.com/events/details/free-concert-at-the-presbyterian-church-of-barrington-28676
END:VEVENT

END:VCALENDAR
