BEGIN:VCALENDAR
VERSION:2.0
PRODID:-//ChamberMaster//Event Calendar 2.0//EN
METHOD:PUBLISH
X-PUBLISHED-TTL:P3D
REFRESH-INTERVAL:P3D
CALSCALE:GREGORIAN
BEGIN:VEVENT
DTSTART:20241003T230000Z
DTEND:20241004T010000Z
X-MICROSOFT-CDO-ALLDAYEVENT:FALSE
SUMMARY:Family To Family Class
DESCRIPTION:Family-to-Family is a free education program that meets weekly for eight sessions. It is for loved ones of individuals with mental illness and provides Information about anxiety\,  depression\, bipolar disorder\, schizophrenia\, PTSD and other mental health conditions. It is taught by trained family members who also have a loved one with a mental health condition and is designed to increase understanding and advocacy skills while helping participants maintain\n\ntheir own well-being. You will learn: what causes mental illness\, what these disorders are like\, treatment and\n\nsupport options\, communication and problem solving skills\, self-care techniques\, and more.
X-ALT-DESC;FMTTYPE=text/html:Family-to-Family is a free education program that meets weekly for eight sessions. It is for loved ones of individuals with mental illness and provides Information about anxiety\,&nbsp\; depression\, bipolar disorder\, schizophrenia\, PTSD and other mental health conditions. It is taught by trained family members who also have a loved one with a mental health condition and is designed to increase understanding and advocacy skills while helping participants maintain<br />\ntheir own well-being. You will learn: what causes mental illness\, what these disorders are like\, treatment and<br />\nsupport options\, communication and problem solving skills\, self-care techniques\, and more.
LOCATION:Arlington Heights
UID:e.21.31622
SEQUENCE:3
DTSTAMP:20260422T045304Z
URL:https://business.barringtonchamber.com/events/details/family-to-family-class-31622
END:VEVENT

END:VCALENDAR
