BEGIN:VCALENDAR
VERSION:2.0
PRODID:-//ChamberMaster//Event Calendar 2.0//EN
METHOD:PUBLISH
X-PUBLISHED-TTL:P3D
REFRESH-INTERVAL:P3D
CALSCALE:GREGORIAN
BEGIN:VEVENT
DTSTART:20210603T140000Z
DTEND:20210603T150000Z
X-MICROSOFT-CDO-ALLDAYEVENT:FALSE
SUMMARY:Excel: Visualizing Excel Data with SmartArt and Charts
DESCRIPTION:They say that 'a picture is worth a thousand words. Using SmartArt and Charts to visually display complex Excel data communicates the data's message much more effectively to your target audience. Join Cathy to learn to visualize your data.
X-ALT-DESC;FMTTYPE=text/html:They say that &lsquo\;a picture is worth a thousand words. Using SmartArt and Charts to visually display complex Excel data communicates the data&rsquo\;s message much more effectively to your target audience. Join Cathy to learn to visualize your data.
LOCATION:Live Zoom
UID:e.21.27891
SEQUENCE:3
DTSTAMP:20260422T110724Z
URL:https://business.barringtonchamber.com/events/details/excel-visualizing-excel-data-with-smartart-and-charts-27891
END:VEVENT

END:VCALENDAR
