BEGIN:VCALENDAR
VERSION:2.0
PRODID:-//ChamberMaster//Event Calendar 2.0//EN
METHOD:PUBLISH
X-PUBLISHED-TTL:P3D
REFRESH-INTERVAL:P3D
CALSCALE:GREGORIAN
BEGIN:VEVENT
DTSTART:20210510T130000Z
DTEND:20210510T141500Z
X-MICROSOFT-CDO-ALLDAYEVENT:FALSE
SUMMARY:Excel: Mastering Charts
DESCRIPTION:They say that a picture is worth a thousand words. Using Excel charting tools to visually display complex Excel data communicates the data's message much more effectively to your target audience. Chart and graphs are visual representations of your data. Viewing the data graphically makes the data less confusing and increases comprehension. It is easier to spot trends and patterns in your data sets.
X-ALT-DESC;FMTTYPE=text/html:They say that a picture is worth a thousand words. Using Excel charting tools to visually display complex Excel data communicates the data&rsquo\;s message much more effectively to your target audience. Chart and graphs are visual representations of your data. Viewing the data graphically makes the data less confusing and increases comprehension. It is easier to spot trends and patterns in your data sets.
LOCATION:Live Zoom
UID:e.21.27869
SEQUENCE:3
DTSTAMP:20260421T145003Z
URL:https://business.barringtonchamber.com/events/details/excel-mastering-charts-27869
END:VEVENT

END:VCALENDAR
