BEGIN:VCALENDAR
VERSION:2.0
PRODID:-//ChamberMaster//Event Calendar 2.0//EN
METHOD:PUBLISH
X-PUBLISHED-TTL:P3D
REFRESH-INTERVAL:P3D
CALSCALE:GREGORIAN
BEGIN:VEVENT
DTSTART:20210518T130000Z
DTEND:20210518T170000Z
X-MICROSOFT-CDO-ALLDAYEVENT:FALSE
SUMMARY:Excel Advanced
DESCRIPTION:Learn the advanced functions of Microsoft Excel including Sorting and Filtering\, creating Subtotals\, and generating PivotTables to summarize and analyze your data. Course will be taught using Excel 2016 but applicable to older versions which may not have some of the newer features. Topics include:   Sort and Filter Data   Use Excel Tables to Organize Data   Use Subtotals   Summarize Data with PivotTables
X-ALT-DESC;FMTTYPE=text/html:Learn the advanced functions of Microsoft Excel including Sorting and Filtering\, creating Subtotals\, and generating PivotTables to summarize and analyze your data. Course will be taught using Excel 2016 but applicable to older versions which may not have some of the newer features. Topics include: &bull\; Sort and Filter Data &bull\; Use Excel Tables to Organize Data &bull\; Use Subtotals &bull\; Summarize Data with PivotTables
LOCATION:Live Zoom
UID:e.21.27875
SEQUENCE:3
DTSTAMP:20260423T074820Z
URL:https://business.barringtonchamber.com/events/details/excel-advanced-05-18-2021-27875
END:VEVENT

END:VCALENDAR
