BEGIN:VCALENDAR
VERSION:2.0
PRODID:-//ChamberMaster//Event Calendar 2.0//EN
METHOD:PUBLISH
X-PUBLISHED-TTL:P3D
REFRESH-INTERVAL:P3D
CALSCALE:GREGORIAN
BEGIN:VEVENT
DTSTART:20201013T150000Z
DTEND:20201013T160000Z
X-MICROSOFT-CDO-ALLDAYEVENT:FALSE
SUMMARY:Employee Sexual Harassment Prevention Training Webinar
DESCRIPTION:Register your staff for this Zoom Webinar to meet the state requirement for annual Employee Sexual Harassment Prevention Training. Attendees will receive a printed certificate of completion. Examples will be provided on how to craft the written policy required in your company employee manual.
X-ALT-DESC;FMTTYPE=text/html:Register your staff for this Zoom Webinar to meet the state requirement for annual Employee Sexual Harassment Prevention Training. Attendees will receive a printed certificate of completion. Examples will be provided on how to craft the written policy required in your company employee manual.
LOCATION:Zoom meeting led by Andrea Herran of Focus HR\, a 30-year HR professional who has worked for a variety of companies in the U.S.\, Argentina\, Mexico and South Africa.
UID:e.21.27279
SEQUENCE:3
DTSTAMP:20260425T021214Z
URL:https://business.barringtonchamber.com/events/details/employee-sexual-harassment-prevention-training-webinar-27279
END:VEVENT

END:VCALENDAR
