BEGIN:VCALENDAR
VERSION:2.0
PRODID:-//ChamberMaster//Event Calendar 2.0//EN
METHOD:PUBLISH
X-PUBLISHED-TTL:P3D
REFRESH-INTERVAL:P3D
CALSCALE:GREGORIAN
BEGIN:VEVENT
DTSTART;VALUE=DATE:20200827
DTEND;VALUE=DATE:20200828
TRANSP:TRANSPARENT
X-MICROSOFT-CDO-ALLDAYEVENT:TRUE
SUMMARY:Elgin Symphony Orchestra Virtual Auction and Live Event
DESCRIPTION:Join us beginning Thursday\, August 27th\, for a virtual auction featuring local treasures and unique Elgin Symphony Orchestra musician experiences-all to support the ESO's programming and community outreach. On Sunday\, August 30th\, the auction will conclude and Maestro Andrew Grams will host a live event-interviewing special fan favorite guest artists and ESO musicians to celebrate our 70 seasons. The live event will include an opportunity to hear Maestro Grams on violin and Cleveland Symphony Orchestra flutist Saeran St. Christopher perform if our goal amount of $10\,000 in donations is raised. For more information and to register\, visit: https://ESO2020.givesmart.com
X-ALT-DESC;FMTTYPE=text/html:Join us beginning Thursday\, August 27th\, for a virtual auction featuring local treasures and unique Elgin Symphony Orchestra musician experiences-all to support the ESO&#39\;s programming and community outreach. On Sunday\, August 30th\, the auction will conclude and Maestro Andrew Grams will host a live event-interviewing special fan favorite guest artists and ESO musicians to celebrate our 70 seasons. The live event will include an opportunity to hear Maestro Grams on violin and Cleveland Symphony Orchestra flutist Saeran St. Christopher perform if our goal amount of $10\,000 in donations is raised. For more information and to register\, visit:&nbsp\;https://ESO2020.givesmart.com
LOCATION:https://ESO2020.givesmart.com
UID:e.21.27318
SEQUENCE:3
DTSTAMP:20260425T021156Z
URL:https://business.barringtonchamber.com/events/details/elgin-symphony-orchestra-virtual-auction-and-live-event-27318
END:VEVENT

END:VCALENDAR
