BEGIN:VCALENDAR
VERSION:2.0
PRODID:-//ChamberMaster//Event Calendar 2.0//EN
METHOD:PUBLISH
X-PUBLISHED-TTL:P3D
REFRESH-INTERVAL:P3D
CALSCALE:GREGORIAN
BEGIN:VEVENT
DTSTART:20200803T150000Z
DTEND:20200803T161500Z
X-MICROSOFT-CDO-ALLDAYEVENT:FALSE
SUMMARY:Discover Yoga with Karen Class
DESCRIPTION:Rejuvenate and renew in a student-paced\, small and intimate yoga class with instructor Karen Fotopoulos. The movement is gentle\, methodical and deliberate. If a movement is uncomfortable\, a modification will be suggested. Invest some of your precious time to stretch and relax in a serene environment.
X-ALT-DESC;FMTTYPE=text/html:<span style="color:rgb(0\, 0\, 0)\; font-family:arial\,helvetica\,sans-serif\; font-size:14px">Rejuvenate and renew in a student-paced\, small and intimate yoga class with instructor Karen Fotopoulos</span><span style="color:rgb(0\, 0\, 0)\; font-family:arial\,helvetica\,sans-serif\; font-size:14px">. The movement is gentle\, methodical and deliberate. If a movement is uncomfortable\, a modification will be suggested. Invest some of your precious time to stretch and relax in a serene environment.</span>
LOCATION:The Community Church of Barrington 407 S. Grove Ave. Barrington\, IL
UID:e.21.26748
SEQUENCE:3
DTSTAMP:20260425T021914Z
URL:https://business.barringtonchamber.com/events/details/discover-yoga-with-karen-class-08-03-2020-26748
END:VEVENT

END:VCALENDAR
