BEGIN:VCALENDAR
VERSION:2.0
PRODID:-//ChamberMaster//Event Calendar 2.0//EN
METHOD:PUBLISH
X-PUBLISHED-TTL:P3D
REFRESH-INTERVAL:P3D
CALSCALE:GREGORIAN
BEGIN:VEVENT
DTSTART:20210509T003000Z
DTEND:20210509T020000Z
X-MICROSOFT-CDO-ALLDAYEVENT:FALSE
SUMMARY:Dancing with Pizazz
DESCRIPTION:The musical genius of George Gershwin and Cole Porter comes alive through the musical synthesis of the Jazz Pizazz trio (soprano Kimberly Albrecht\, pianist Marianne Kim and bassist Nick Schneider) combined with the artistry of Dancewerks and Midwest Dance Collective\, choreographed and emceed by Ellen Werksman Smith.
X-ALT-DESC;FMTTYPE=text/html:The musical genius of George Gershwin and Cole Porter comes alive through the musical synthesis of the Jazz Pizazz trio (soprano Kimberly Albrecht\, pianist Marianne Kim and bassist Nick Schneider) combined with the artistry of Dancewerks and Midwest Dance Collective\, choreographed and emceed by Ellen Werksman Smith.
LOCATION:Barrington's White House
UID:e.21.27738
SEQUENCE:3
DTSTAMP:20260422T110559Z
URL:https://business.barringtonchamber.com/events/details/dancing-with-pizazz-27738
END:VEVENT

END:VCALENDAR
