BEGIN:VCALENDAR
VERSION:2.0
PRODID:-//ChamberMaster//Event Calendar 2.0//EN
METHOD:PUBLISH
X-PUBLISHED-TTL:P3D
REFRESH-INTERVAL:P3D
CALSCALE:GREGORIAN
BEGIN:VEVENT
DTSTART:20140614T150000Z
DTEND:20140614T210000Z
X-MICROSOFT-CDO-ALLDAYEVENT:FALSE
SUMMARY:BizEd Community Expo
DESCRIPTION:Join the Barrington Area Chamber of Commerce and Barrington 220 at the BizEd community Expo!\n\n- Nearly 100 booths showcasing local resources: businesses\, community partners\, civic organizations\, non-profits\, and educational resources that build careers for all ages\n\n- S.T.E.M (Science\, Technology\, Engineering and Math) Fair to build interest in challenging career fields\n\n-Food court featuring local restaurants\n\n-Entertainment\, including youth performances\, live music\, and robotics demonstrations and competitions!\n\n-Hundreds of residents expected!  Free admission and parking.
X-ALT-DESC;FMTTYPE=text/html:Join the Barrington Area Chamber of Commerce and Barrington 220 at the BizEd community Expo!<br />\n- Nearly 100 booths showcasing local resources: businesses\, community partners\, civic organizations\, non-profits\, and educational resources that build careers for all ages<br />\n- S.T.E.M (Science\, Technology\, Engineering and Math) Fair to build interest in challenging career fields<br />\n-Food court featuring local restaurants<br />\n-Entertainment\, including youth performances\, live music\, and robotics demonstrations and competitions!<br />\n-Hundreds of residents expected!&nbsp\; Free admission and parking.
LOCATION:Barrington High School 616 W. Main Street Barrington\, IL 60010
UID:e.21.9398
SEQUENCE:3
DTSTAMP:20260422T122043Z
URL:https://business.barringtonchamber.com/events/details/bized-community-expo-06-14-2014-9398
END:VEVENT

END:VCALENDAR
