BEGIN:VCALENDAR
VERSION:2.0
PRODID:-//ChamberMaster//Event Calendar 2.0//EN
METHOD:PUBLISH
X-PUBLISHED-TTL:P3D
REFRESH-INTERVAL:P3D
CALSCALE:GREGORIAN
BEGIN:VEVENT
DTSTART:20210527T140000Z
DTEND:20210527T160000Z
X-MICROSOFT-CDO-ALLDAYEVENT:FALSE
SUMMARY:Better Performance Management through Coaching
DESCRIPTION:Leading\, guiding and managing the performance of a team goes well beyond the annual performance appraisal. It's never a "one and done" conversation\, or task. Many managers struggle to incorporate practices for bringing out the best in their direct reports\, resulting in less than stellar outcomes. Using a coaching mindset and approach to ongoing performance can significantly boost engagement and productivity\, as well as foster stronger working relationships.
X-ALT-DESC;FMTTYPE=text/html:Leading\, guiding and managing the performance of a team goes well beyond the annual performance appraisal. It&#39\;s never a &quot\;one and done&quot\; conversation\, or task. Many managers struggle to incorporate practices for bringing out the best in their direct reports\, resulting in less than stellar outcomes. Using a coaching mindset and approach to ongoing performance can significantly boost engagement and productivity\, as well as foster stronger working relationships.
LOCATION:Live Zoom
UID:e.21.27866
SEQUENCE:3
DTSTAMP:20260421T120937Z
URL:https://business.barringtonchamber.com/events/details/better-performance-management-through-coaching-27866
END:VEVENT

END:VCALENDAR
