BEGIN:VCALENDAR
VERSION:2.0
PRODID:-//ChamberMaster//Event Calendar 2.0//EN
METHOD:PUBLISH
X-PUBLISHED-TTL:P3D
REFRESH-INTERVAL:P3D
CALSCALE:GREGORIAN
BEGIN:VEVENT
DTSTART:20200826T220000Z
DTEND:20200826T230000Z
X-MICROSOFT-CDO-ALLDAYEVENT:FALSE
SUMMARY:Barrington Township Republican Organization
DESCRIPTION:ELECTION 2020 / SPECIAL EVENT\n\nBTRO LIVE TELE- TOWN HALL FORUM  / AUGUST 26th. 5:00 PM /\n\n                  Please Call 847-221-6381 press 5\n\n                         GUEST SPEAKERS\n\n JUDGE PAT O'BRIEN /Republican Candidate for Cook County State's Attorney \n\n SEAN MORRISON      / Cook County Republican Chair / SEAN MORRISON\n\n  DAN PATLAK             / Member of Cook County Board of Review\n\n  GARY SEYRING        / Republican Cook County Judicial Nominee
X-ALT-DESC;FMTTYPE=text/html:<strong>ELECTION 2020 / SPECIAL EVENT</strong><br />\n<strong>BTRO LIVE TELE- TOWN HALL FORUM&nbsp\; / AUGUST 26th. 5:00 PM /<br />\n&nbsp\; &nbsp\; &nbsp\; &nbsp\; &nbsp\; &nbsp\; &nbsp\; &nbsp\; &nbsp\; Please Call&nbsp\;847-221-6381 press 5<br />\n&nbsp\; &nbsp\; &nbsp\; &nbsp\; &nbsp\; &nbsp\; &nbsp\; &nbsp\; &nbsp\; &nbsp\; &nbsp\; &nbsp\; &nbsp\;GUEST SPEAKERS<br />\n&nbsp\;JUDGE PAT O&#39\;BRIEN /Republican Candidate for Cook County State&#39\;s Attorney&nbsp\;<br />\n&nbsp\;SEAN MORRISON&nbsp\; &nbsp\; &nbsp\; / Cook County Republican Chair / SEAN MORRISON<br />\n&nbsp\; DAN PATLAK&nbsp\; &nbsp\; &nbsp\; &nbsp\; &nbsp\; &nbsp\; &nbsp\;/ Member of Cook County Board of Review<br />\n&nbsp\; GARY SEYRING&nbsp\; &nbsp\; &nbsp\; &nbsp\; / Republican Cook County Judicial Nominee&nbsp\;&nbsp\;</strong><br />\n&nbsp\;
LOCATION:To join us and participate - Call 847-221-6381 Press 5
UID:e.21.27319
SEQUENCE:3
DTSTAMP:20260425T021545Z
URL:https://business.barringtonchamber.com/events/details/barrington-township-republican-organization-27319
END:VEVENT

END:VCALENDAR
