BEGIN:VCALENDAR
VERSION:2.0
PRODID:-//ChamberMaster//Event Calendar 2.0//EN
METHOD:PUBLISH
X-PUBLISHED-TTL:P3D
REFRESH-INTERVAL:P3D
CALSCALE:GREGORIAN
BEGIN:VEVENT
DTSTART;VALUE=DATE:20260612
DTEND;VALUE=DATE:20260614
TRANSP:TRANSPARENT
X-MICROSOFT-CDO-ALLDAYEVENT:TRUE
SUMMARY:Barrington Dance Ensemble Presents 'Coppelia'
DESCRIPTION:BDE presents Coppelia: June 12th & 13th!\n\nCopp lia is a lighthearted\, comedic ballet that tells the story of Swanilda and Franz\, whose romance is tested when Franz becomes enamored with Copp lia\, a mysterious girl who sits motionless on a balcony. When Swanilda discovers that Copp lia is actually a life-sized doll created by the eccentric inventor Dr. Copp lius\, she disguises herself as the doll to teach Franz a lesson and restore harmony. Filled with charm\, humor\, and joyful village dances\, Copp lia celebrates love\, forgiveness\, and the magic of ballet.\n\nTickets on sale now!
X-ALT-DESC;FMTTYPE=text/html:<p>BDE presents Coppelia: June 12th &amp\; 13th!</p>\n\n<p>Copp&eacute\;lia is a lighthearted\, comedic ballet that tells the story of Swanilda and Franz\, whose romance is tested when Franz becomes enamored with Copp&eacute\;lia\, a mysterious girl who sits motionless on a balcony. When Swanilda discovers that Copp&eacute\;lia is actually a life-sized doll created by the eccentric inventor Dr. Copp&eacute\;lius\, she disguises herself as the doll to teach Franz a lesson and restore harmony. Filled with charm\, humor\, and joyful village dances\, Copp&eacute\;lia celebrates love\, forgiveness\, and the magic of ballet.</p>\n\n<p>Tickets on sale now!</p>\n
LOCATION:Barrington High School Auditorium
UID:e.21.35168
SEQUENCE:3
DTSTAMP:20260421T100250Z
URL:https://business.barringtonchamber.com/events/details/barrington-dance-ensemble-presents-coppelia-35168
END:VEVENT

END:VCALENDAR
