BEGIN:VCALENDAR
VERSION:2.0
PRODID:-//ChamberMaster//Event Calendar 2.0//EN
METHOD:PUBLISH
X-PUBLISHED-TTL:P3D
REFRESH-INTERVAL:P3D
CALSCALE:GREGORIAN
BEGIN:VEVENT
DTSTART:20220315T220000Z
DTEND:20220316T003000Z
X-MICROSOFT-CDO-ALLDAYEVENT:FALSE
SUMMARY:BACC Mixer of the Month at DIBI Menswear
DESCRIPTION:All BACC members are invited to attend our FREE Mixer of the Month on March 15 from 5:00-7:00 pm at DIBI Menswear in Lake Barrington. Enjoy complimentary appetizers and refreshments\, connect with fellow BACC members\, and browse the DIBI Collection of men's contemporary clothing & accessories. This is a FREE event but an RSVP is requested. \n\n\n\nTo sign up click the blue registration button on this page.
X-ALT-DESC;FMTTYPE=text/html:<span style="color: rgb(0\, 0\, 0)\; font-family: Verdana\, Geneva\, sans-serif\; font-size: 14px\; white-space: pre-wrap\;">All BACC members are invited to attend our FREE Mixer of the Month on March 15 from 5:00-7:00 pm at </span><a data-link-type="web" href="https://business.barringtonchamber.com/list/member/dibi-menswear-7058" rel="noopener noreferrer" style="color: rgb(0\, 0\, 0)\; font-weight: bold\; font-family: Verdana\, Geneva\, sans-serif\; font-size: 14px\; white-space: pre-wrap\;" target="_blank">DIBI Menswear</a><span style="color: rgb(0\, 0\, 0)\; font-family: Verdana\, Geneva\, sans-serif\; font-size: 14px\; white-space: pre-wrap\;">&nbsp\;in Lake Barrington. </span><span style="color: rgb(0\, 0\, 0)\; font-family: Verdana\, Geneva\, sans-serif\; font-size: 14px\; white-space: pre-wrap\;">Enjoy complimentary appetizers and refreshments\, connect with fellow BACC members\, and browse the DIBI Collection of men&#39\;s contemporary clothing &amp\; accessories. This is a FREE event but an RSVP is requested. </span><br />\n<br />\n<strong><span style="color:#0000CD\;"><span style="font-family: Verdana\, Geneva\, sans-serif\; font-size: 14px\; white-space: pre-wrap\;">To sign up click the blue registration button on this page.</span></span></strong><br />\n<br />\n<br />\n&nbsp\;
LOCATION:DIBI Menswear 28686 W. Northwest Highway Lake Barrington\, IL
UID:e.21.28617
SEQUENCE:3
DTSTAMP:20260422T192525Z
URL:https://business.barringtonchamber.com/events/details/bacc-mixer-of-the-month-at-dibi-menswear-28617
END:VEVENT

END:VCALENDAR
