BEGIN:VCALENDAR
VERSION:2.0
PRODID:-//ChamberMaster//Event Calendar 2.0//EN
METHOD:PUBLISH
X-PUBLISHED-TTL:P3D
REFRESH-INTERVAL:P3D
CALSCALE:GREGORIAN
BEGIN:VEVENT
DTSTART:20200826T190000Z
DTEND:20200826T200000Z
X-MICROSOFT-CDO-ALLDAYEVENT:FALSE
SUMMARY:Ask An Expert: "Understanding COVID" - Virtual Event
DESCRIPTION:Join BACC for a virtual event: "Ask An Expert: Understanding COVID" presented by Dr. Reinhold Llerena\, of AMITA\, who will cover: Common and uncommon symptoms\; What the virus does\; Current tests\; and Potential vaccines\, followed by a Q & A session.
X-ALT-DESC;FMTTYPE=text/html:Join BACC for a virtual event: &quot\;Ask An Expert: Understanding COVID&quot\; presented by&nbsp\;Dr. Reinhold Llerena\, of AMITA\, who will cover: Common and uncommon symptoms\; What the virus does\; Current tests\; and Potential vaccines\, followed by a Q &amp\; A session.
LOCATION:Zoom event - Register to receive your link
UID:e.21.27282
SEQUENCE:3
DTSTAMP:20260425T033031Z
URL:https://business.barringtonchamber.com/events/details/ask-an-expert-understanding-covid-virtual-event-27282
END:VEVENT

END:VCALENDAR
