BEGIN:VCALENDAR
VERSION:2.0
PRODID:-//ChamberMaster//Event Calendar 2.0//EN
METHOD:PUBLISH
X-PUBLISHED-TTL:P3D
REFRESH-INTERVAL:P3D
CALSCALE:GREGORIAN
BEGIN:VEVENT
DTSTART;VALUE=DATE:20260428
DTEND;VALUE=DATE:20260429
TRANSP:TRANSPARENT
X-MICROSOFT-CDO-ALLDAYEVENT:TRUE
SUMMARY:Adult Protective Services (APS)
DESCRIPTION:The Adult Protective Services Program (APS) investigates reports of abuse\, neglect\, exploitation\, and self-neglect of adults age 60 or older\, and adults age 18-59 with disabilities living in the community. APS works to:\n\n	Assess safety and risk\n	Stop or reduce harm\n	Connect individuals with community resources and supports\n	Promote independence\, dignity\, and the least restrictive interventions possible\n\nAPS services are voluntary and client-centered. Our goal is to protect vulnerable adults while respecting their rights and personal choices.
X-ALT-DESC;FMTTYPE=text/html:<span style="color:rgb(42\, 42\, 42)\; font-family:open sans\,sans-serif\; font-size:16px">The Adult Protective Services Program (APS) investigates reports of abuse\, neglect\, exploitation\, and self-neglect of adults age 60 or older\, and adults age 18-59 with disabilities living in the community. APS works to:</span>\n<ul>\n	<li><span style="color:rgb(42\, 42\, 42)\; font-family:open sans\,sans-serif\; font-size:16px">Assess safety and risk</span></li>\n	<li><span style="color:rgb(42\, 42\, 42)\; font-family:open sans\,sans-serif\; font-size:16px">Stop or reduce harm</span></li>\n	<li><span style="color:rgb(42\, 42\, 42)\; font-family:open sans\,sans-serif\; font-size:16px">Connect individuals with community resources and supports</span></li>\n	<li><span style="color:rgb(42\, 42\, 42)\; font-family:open sans\,sans-serif\; font-size:16px">Promote independence\, dignity\, and the least restrictive interventions possible</span></li>\n</ul>\n<span style="color:rgb(42\, 42\, 42)\; font-family:open sans\,sans-serif\; font-size:16px">APS services are voluntary and client-centered. Our goal is to protect vulnerable adults while respecting their rights and personal choices.</span>
LOCATION:Virtual (Zoom)
UID:e.21.35183
SEQUENCE:3
DTSTAMP:20260424T075415Z
URL:https://business.barringtonchamber.com/events/details/adult-protective-services-aps-35183
END:VEVENT

END:VCALENDAR
