BEGIN:VCALENDAR
VERSION:2.0
PRODID:-//ChamberMaster//Event Calendar 2.0//EN
METHOD:PUBLISH
X-PUBLISHED-TTL:P3D
REFRESH-INTERVAL:P3D
CALSCALE:GREGORIAN
BEGIN:VEVENT
DTSTART:20220331T220000Z
DTEND:20220401T000000Z
X-MICROSOFT-CDO-ALLDAYEVENT:FALSE
SUMMARY:2022 WBN Women's Wellness Expo & Mixer
DESCRIPTION:Join the BACC Women's Biz Net for a Women's Wellness Expo & Mixer on Thursday\, March 31 from 5:00-7:00 pm. Network and gather helpful information from select health & wellness vendors\, while enjoying mini-spa services\, wine tasting\, refreshments & appetizers! Cost to attend is $25. Click the registration link on this page to sign up!
X-ALT-DESC;FMTTYPE=text/html:Join the BACC Women&#39\;s Biz Net&nbsp\;for a <strong>Women&#39\;s Wellness Expo &amp\; Mixer</strong> on Thursday\, March 31 from 5:00-7:00 pm. Network and gather helpful information from select health &amp\; wellness vendors\, while enjoying mini-spa services\, wine tasting\, refreshments &amp\; appetizers! Cost to attend is $25. Click the registration link on this page to sign up!<br />\n&nbsp\;
LOCATION:South Barrington Club 3 Tennis Club Lane South Barrington\, IL
UID:e.21.28110
SEQUENCE:3
DTSTAMP:20260422T191100Z
URL:https://business.barringtonchamber.com/events/details/2022-wbn-women-s-wellness-expo-mixer-28110
END:VEVENT

END:VCALENDAR
