BEGIN:VCALENDAR
VERSION:2.0
PRODID:-//ChamberMaster//Event Calendar 2.0//EN
METHOD:PUBLISH
X-PUBLISHED-TTL:P3D
REFRESH-INTERVAL:P3D
CALSCALE:GREGORIAN
BEGIN:VEVENT
DTSTART:20210611T170000Z
DTEND:20210611T181500Z
X-MICROSOFT-CDO-ALLDAYEVENT:FALSE
SUMMARY:2021 Virtual BACC Membership Boot Camp
DESCRIPTION:Join us for a FREE Virtual Boot Camp on Friday\, June 11 from noon - 1:15 pm.\n\n\n\nThis is a great event for ANY BACC Member Who Wants to:\n\n- Use BACC resources to expand their presence\n\n- Market their products\, services and events\n\n- Network to build relationships\n\n\n\nRegister to receive your ZOOM link.
X-ALT-DESC;FMTTYPE=text/html:Join us for a FREE Virtual Boot Camp on Friday\, June 11 from noon - 1:15 pm.<br />\n<br />\nThis is a great event for ANY BACC Member Who Wants to:<br />\n- Use BACC resources to expand their presence<br />\n- Market their products\, services and events<br />\n- Network to build relationships<br />\n<br />\nRegister&nbsp\;to receive your ZOOM link.<br />\n<br />\n<br />\n&nbsp\;
LOCATION:FREE Online Zoom Meeting with Suzanne Corr\, President/CEO of the Barrington Area Chamber of Commerce BACC members must register to receive a Zoom link.
UID:e.21.27901
SEQUENCE:3
DTSTAMP:20260420T074016Z
URL:https://business.barringtonchamber.com/events/details/2021-virtual-bacc-membership-boot-camp-27901
END:VEVENT

END:VCALENDAR
